BEGIN:VCALENDAR
VERSION:2.0
PRODID:spatie/icalendar-generator
DESCRIPTION:Veranstaltungen von Frau MütZe
X-WR-CALDESC:Veranstaltungen von Frau MütZe
REFRESH-INTERVAL;VALUE=DURATION:PT1440M
X-PUBLISHED-TTL:PT1440M
BEGIN:VTIMEZONE
TZID:Etc/GMT+0
BEGIN:STANDARD
DTSTART:20240603T150000Z
TZOFFSETFROM:+0000
TZOFFSETTO:+0000
END:STANDARD
END:VTIMEZONE
BEGIN:VTIMEZONE
TZID:UTC
BEGIN:STANDARD
DTSTART:20250725T181341Z
TZOFFSETFROM:+0000
TZOFFSETTO:+0000
END:STANDARD
END:VTIMEZONE
BEGIN:VEVENT
UID:56804-784
DTSTAMP:20260421T181341Z
SUMMARY:MütZe Café
LOCATION:
ORGANIZER;CN=Swantje Schmidt:MAILTO:schmidt@fraumuetze-germering.de
RRULE:FREQ=WEEKLY;UNTIL=20250428T000000Z
DTSTART;TZID=Etc/GMT+0:20250228T150000
DTEND;TZID=Etc/GMT+0:20250228T180000
X-ALT-DESC;FMTTYPE=TEXT/HTML:Das MütZe Café ist ein offener Treffpunkt 
 – alle Frauen\, Mütter\, Väter\, Omas\, Opas … und eure Kinder und E
 nkelkinder können sich bei einer Tasse Kaffee oder Tee* kennen lernen. In
 formationen –  auch Rund ums Frau MütZe – bekommt ihr während des o
 ffenen Cafébetriebs. * Es besteht kein Verzehrzwang! Der Verzehr von selb
 st mitgebrachten Lebensmitteln&amp;hellip\;
CATEGORIES:Offener Treff
URL;VALUE=URI:https://www.fraumuetze-germering.de/?page_id=216&#038;mc_id=5
 6804&#038;vcal=56804
METHOD:PUBLISH
END:VEVENT
END:VCALENDAR