BEGIN:VCALENDAR
VERSION:2.0
PRODID:spatie/icalendar-generator
DESCRIPTION:Veranstaltungen von Frau MütZe
X-WR-CALDESC:Veranstaltungen von Frau MütZe
REFRESH-INTERVAL;VALUE=DURATION:PT1440M
X-PUBLISHED-TTL:PT1440M
BEGIN:VTIMEZONE
TZID:Etc/GMT+0
BEGIN:STANDARD
DTSTART:20250613T193000Z
TZOFFSETFROM:+0000
TZOFFSETTO:+0000
END:STANDARD
END:VTIMEZONE
BEGIN:VTIMEZONE
TZID:UTC
BEGIN:STANDARD
DTSTART:20250725T004101Z
TZOFFSETFROM:+0000
TZOFFSETTO:+0000
END:STANDARD
END:VTIMEZONE
BEGIN:VEVENT
UID:60414-851
DTSTAMP:20260421T004101Z
SUMMARY:Kugelrund(e) in Germering
LOCATION:
ORGANIZER;CN=Swantje Schmidt:MAILTO:schmidt@fraumuetze-germering.de
RRULE:FREQ=MONTHLY;BYDAY=2TU;UNTIL=20280119T000000Z
DTSTART;TZID=Etc/GMT+0:20260310T193000
DTEND;TZID=Etc/GMT+0:20260310T203000
X-ALT-DESC;FMTTYPE=TEXT/HTML:Dein offener Schwangeren-Treff Bei uns kannst 
 du nette Schwangere kennenlernen\, dich vernetzen\, dich mit den anderen a
 ustauschen und Fragen an die Hebamme stellen. Der Treff findet jeden 2. D
 ienstag im Monat im Frau MütZe\, Goethestraße 5\, im Obergeschoss statt
 . Zum Treff lädt die Hebamme Brigitte Amey ein. Der Treff ist kostenlos. 
 Über Spenden freuen wir uns. Deine&amp;hellip\;
CATEGORIES:für Schwangere
URL;VALUE=URI:https://www.fraumuetze-germering.de/?page_id=216&#038;mc_id=6
 0414&#038;vcal=60414
METHOD:PUBLISH
END:VEVENT
END:VCALENDAR