BEGIN:VCALENDAR
VERSION:2.0
PRODID:spatie/icalendar-generator
DESCRIPTION:Veranstaltungen von Frau MütZe
X-WR-CALDESC:Veranstaltungen von Frau MütZe
REFRESH-INTERVAL;VALUE=DURATION:PT1440M
X-PUBLISHED-TTL:PT1440M
BEGIN:VTIMEZONE
TZID:Etc/GMT+0
BEGIN:STANDARD
DTSTART:20250410T000000Z
TZOFFSETFROM:+0000
TZOFFSETTO:+0000
END:STANDARD
END:VTIMEZONE
BEGIN:VTIMEZONE
TZID:UTC
BEGIN:STANDARD
DTSTART:20250724T115409Z
TZOFFSETFROM:+0000
TZOFFSETTO:+0000
END:STANDARD
END:VTIMEZONE
BEGIN:VEVENT
UID:58741-841
DTSTAMP:20260420T115409Z
SUMMARY:Weihnachtsferien 25/26
LOCATION:
ORGANIZER;CN=Swantje Schmidt:MAILTO:schmidt@fraumuetze-germering.de
RRULE:FREQ=DAILY;UNTIL=20260106T000000Z
DTSTART;TZID=Etc/GMT+0:20260105T000000
DTEND;TZID=Etc/GMT+0:20260105T010000
X-ALT-DESC;FMTTYPE=TEXT/HTML:
CATEGORIES:
URL;VALUE=URI:https://www.fraumuetze-germering.de/?page_id=216&#038;mc_id=5
 8741&#038;vcal=58741
METHOD:PUBLISH
END:VEVENT
END:VCALENDAR