BEGIN:VCALENDAR
VERSION:2.0
PRODID:spatie/icalendar-generator
DESCRIPTION:Veranstaltungen von Frau MütZe
X-WR-CALDESC:Veranstaltungen von Frau MütZe
REFRESH-INTERVAL;VALUE=DURATION:PT1440M
X-PUBLISHED-TTL:PT1440M
BEGIN:VTIMEZONE
TZID:Etc/GMT+0
BEGIN:STANDARD
DTSTART:20250326T150000Z
TZOFFSETFROM:+0000
TZOFFSETTO:+0000
END:STANDARD
END:VTIMEZONE
BEGIN:VTIMEZONE
TZID:UTC
BEGIN:STANDARD
DTSTART:20250725T035319Z
TZOFFSETFROM:+0000
TZOFFSETTO:+0000
END:STANDARD
END:VTIMEZONE
BEGIN:VEVENT
UID:58524-768
DTSTAMP:20260421T035319Z
SUMMARY:Internationales Café
LOCATION:
ORGANIZER;CN=Swantje Schmidt:MAILTO:schmidt@fraumuetze-germering.de
RRULE:FREQ=MONTHLY;BYDAY=3SU;UNTIL=20330731T000000Z
DTSTART;TZID=Etc/GMT+0:20251221T150000
DTEND;TZID=Etc/GMT+0:20251221T180000
X-ALT-DESC;FMTTYPE=TEXT/HTML:Herzlich willkommen im „Internationalen Caf
 é“ Alle\, die Lust auf internationale Kontakte haben\, sind herzlich wi
 llkommen. Hier könnt ihr euch kennenlernen\, Erfahrungen austauschen oder
  gemeinsame Unternehmungen planen. Das Frau MütZe-Team freut sich auf gro
 ße und kleine Gäste\, jeden 3. Sonntag im Monat von 15.00-18.00 Uhr Weit
 eres hier
CATEGORIES:Internationales Café,  Offener Treff
URL;VALUE=URI:https://www.fraumuetze-germering.de/?page_id=216&#038;mc_id=5
 8524&#038;vcal=58524
METHOD:PUBLISH
END:VEVENT
END:VCALENDAR