BEGIN:VCALENDAR
VERSION:2.0
PRODID:spatie/icalendar-generator
DESCRIPTION:Veranstaltungen von Frau MütZe
X-WR-CALDESC:Veranstaltungen von Frau MütZe
REFRESH-INTERVAL;VALUE=DURATION:PT1440M
X-PUBLISHED-TTL:PT1440M
BEGIN:VTIMEZONE
TZID:Etc/GMT+0
BEGIN:STANDARD
DTSTART:20221107T000000Z
TZOFFSETFROM:+0000
TZOFFSETTO:+0000
END:STANDARD
END:VTIMEZONE
BEGIN:VTIMEZONE
TZID:UTC
BEGIN:STANDARD
DTSTART:20250726T065337Z
TZOFFSETFROM:+0000
TZOFFSETTO:+0000
END:STANDARD
END:VTIMEZONE
BEGIN:VEVENT
UID:54588-595
DTSTAMP:20260422T065337Z
SUMMARY:Sommerferien
LOCATION:
ORGANIZER;CN=Swantje Schmidt:MAILTO:schmidt@fraumuetze-germering.de
RRULE:FREQ=DAILY;UNTIL=20230911T000000Z
DTSTART;TZID=Etc/GMT+0;VALUE=DATE:20230804
DTEND;TZID=Etc/GMT+0;VALUE=DATE:20230805
X-ALT-DESC;FMTTYPE=TEXT/HTML:Eingeschränkter Café-Betrieb möglich. Genau
 eres ca. 1 Monat vor Ferienbeginn.
CATEGORIES:Ferien
URL;VALUE=URI:https://www.fraumuetze-germering.de/?page_id=216&#038;mc_id=5
 4588&#038;vcal=54588
METHOD:PUBLISH
END:VEVENT
END:VCALENDAR