BEGIN:VCALENDAR
VERSION:2.0
PRODID:spatie/icalendar-generator
DESCRIPTION:Veranstaltungen von Frau MütZe
X-WR-CALDESC:Veranstaltungen von Frau MütZe
REFRESH-INTERVAL;VALUE=DURATION:PT1440M
X-PUBLISHED-TTL:PT1440M
BEGIN:VTIMEZONE
TZID:Etc/GMT+0
BEGIN:STANDARD
DTSTART:20220416T193000Z
TZOFFSETFROM:+0000
TZOFFSETTO:+0000
END:STANDARD
END:VTIMEZONE
BEGIN:VTIMEZONE
TZID:UTC
BEGIN:STANDARD
DTSTART:20250724T221150Z
TZOFFSETFROM:+0000
TZOFFSETTO:+0000
END:STANDARD
END:VTIMEZONE
BEGIN:VEVENT
UID:53864-694
DTSTAMP:20260420T221150Z
SUMMARY:MütZe am Abend
LOCATION:
ORGANIZER;CN=Swantje Schmidt:MAILTO:schmidt@fraumuetze-germering.de
RRULE:FREQ=MONTHLY;BYDAY=2WE;UNTIL=20271216T000000Z
DTSTART;TZID=Etc/GMT+0:20230111T193000
DTEND;TZID=Etc/GMT+0:20230111T220000
X-ALT-DESC;FMTTYPE=TEXT/HTML:Treffen für alle\, die sich für Kinder und E
 rziehungsfragen interessieren und sich darüber austauschen möchten und -
  falls sie mögen - die Zeit dabei auch zum Filzen und kreativen Gestalten
  nutzen können. Das Angebot ist kostenfrei und findet an jedem 2. Und 4. 
 Mittwoch im Monat von 19:30 - 22:00 Uhr statt. Kommt gerne auch&amp;hellip\;
CATEGORIES:Offener Treff,  entfällt
URL;VALUE=URI:https://www.fraumuetze-germering.de/?page_id=216&#038;mc_id=5
 3864&#038;vcal=53864
METHOD:PUBLISH
END:VEVENT
END:VCALENDAR