BEGIN:VCALENDAR
VERSION:2.0
PRODID:spatie/icalendar-generator
DESCRIPTION:Veranstaltungen von Frau MütZe
X-WR-CALDESC:Veranstaltungen von Frau MütZe
REFRESH-INTERVAL;VALUE=DURATION:PT1440M
X-PUBLISHED-TTL:PT1440M
BEGIN:VTIMEZONE
TZID:Etc/GMT+0
BEGIN:STANDARD
DTSTART:20240225T110000Z
TZOFFSETFROM:+0000
TZOFFSETTO:+0000
END:STANDARD
END:VTIMEZONE
BEGIN:VTIMEZONE
TZID:UTC
BEGIN:STANDARD
DTSTART:20250724T162539Z
TZOFFSETFROM:+0000
TZOFFSETTO:+0000
END:STANDARD
END:VTIMEZONE
BEGIN:VEVENT
UID:51692-618
DTSTAMP:20260420T162539Z
SUMMARY:Teamtreff
LOCATION:
ORGANIZER;CN=edadffm:MAILTO:plesa@arcor.de
RRULE:FREQ=MONTHLY;BYDAY=3TH;COUNT=50
DTSTART;TZID=Etc/GMT+0:20241121T110000
DTEND;TZID=Etc/GMT+0:20241121T120000
X-ALT-DESC;FMTTYPE=TEXT/HTML:Wer interessiert ist im Frau MütZe mitzuarbei
 ten\, eventuell einen Dienst übernehmen möchte oder eine Idee hat\, die 
 er gern im Frau MütZe umsetzen möchte\, ist herzlich eingeladen. Weitere
  Infos gibt es auch unter offene Stellen oder fraumuetze@gmx.de
CATEGORIES:Teamtreff
URL;VALUE=URI:https://www.fraumuetze-germering.de/?page_id=216&#038;mc_id=5
 1692&#038;vcal=51692
METHOD:PUBLISH
END:VEVENT
END:VCALENDAR